BEGIN:VCALENDAR
VERSION:2.0
PRODID:-//DONA LLUM - Associació Catalana per un Part Respectat - ECPv4.6.13//NONSGML v1.0//EN
CALSCALE:GREGORIAN
METHOD:PUBLISH
X-WR-CALNAME:DONA LLUM - Associació Catalana per un Part Respectat
X-ORIGINAL-URL:https://www.donallum.org
X-WR-CALDESC:Events for DONA LLUM - Associació Catalana per un Part Respectat
BEGIN:VEVENT
DTSTART;TZID=UTC+2:20151210T180000
DTEND;TZID=UTC+2:20151210T200000
DTSTAMP:20260424T150737
CREATED:20151014T091100Z
LAST-MODIFIED:20151122T102516Z
UID:2798-1449770400-1449777600@www.donallum.org
SUMMARY:Xerrada sobre PVDC
DESCRIPTION:Amb Inma Marcos\, llevadora \n
URL:https://www.donallum.org/esdeveniment/xerrada-sobre-pvdc/
LOCATION:C. Brusi 61\, Barcelona \, Barcelona\, Espanya
CATEGORIES:Xerrades i tallers
ATTACH;FMTTYPE=image/jpeg:https://www.donallum.org/wp-content/uploads/2015/10/Xerrada_PartVaginal_Tardor15-1.jpg
END:VEVENT
END:VCALENDAR