BEGIN:VCALENDAR
VERSION:2.0
PRODID:-//DONA LLUM - Associació Catalana per un Part Respectat - ECPv4.6.13//NONSGML v1.0//EN
CALSCALE:GREGORIAN
METHOD:PUBLISH
X-WR-CALNAME:DONA LLUM - Associació Catalana per un Part Respectat
X-ORIGINAL-URL:https://www.donallum.org
X-WR-CALDESC:Events for DONA LLUM - Associació Catalana per un Part Respectat
BEGIN:VEVENT
DTSTART;TZID=UTC+2:20151126T180000
DTEND;TZID=UTC+2:20151126T200000
DTSTAMP:20260424T132106
CREATED:20151014T091022Z
LAST-MODIFIED:20151103T143756Z
UID:2797-1448560800-1448568000@www.donallum.org
SUMMARY:Taller Pla de Part
DESCRIPTION:Amb Eva Carnicer\, llevadora \n
URL:https://www.donallum.org/esdeveniment/taller-pla-de-part/
LOCATION:C. Brusi 61\, Barcelona \, Barcelona\, Espanya
CATEGORIES:Xerrades i tallers
ATTACH;FMTTYPE=image/jpeg:https://www.donallum.org/wp-content/uploads/2015/10/taller-pla-de-part.jpeg
END:VEVENT
END:VCALENDAR