BEGIN:VCALENDAR
VERSION:2.0
PRODID:-//DONA LLUM - Associació Catalana per un Part Respectat - ECPv4.6.13//NONSGML v1.0//EN
CALSCALE:GREGORIAN
METHOD:PUBLISH
X-WR-CALNAME:DONA LLUM - Associació Catalana per un Part Respectat
X-ORIGINAL-URL:https://www.donallum.org
X-WR-CALDESC:Events for DONA LLUM - Associació Catalana per un Part Respectat
BEGIN:VEVENT
DTSTART;TZID=UTC+2:20150925T180000
DTEND;TZID=UTC+2:20150925T200000
DTSTAMP:20260420T083705
CREATED:20150907T095630Z
LAST-MODIFIED:20150908T152356Z
UID:2773-1443204000-1443211200@www.donallum.org
SUMMARY:Presentació Projecte VULL SER INFORMADA
DESCRIPTION:
URL:https://www.donallum.org/esdeveniment/presentacio-projecte-vull-ser-informada/
LOCATION:Sant Pere Més Baix 7\, Barcelona\, Barcelona \, Espanya
CATEGORIES:Xerrades i tallers
ATTACH;FMTTYPE=image/jpeg:https://www.donallum.org/wp-content/uploads/2015/09/SERÉ-MAREVULL-SER-INFORMADA.jpg
END:VEVENT
END:VCALENDAR