BEGIN:VCALENDAR
VERSION:2.0
PRODID:-//DONA LLUM - Associació Catalana per un Part Respectat - ECPv4.6.13//NONSGML v1.0//EN
CALSCALE:GREGORIAN
METHOD:PUBLISH
X-WR-CALNAME:DONA LLUM - Associació Catalana per un Part Respectat
X-ORIGINAL-URL:https://www.donallum.org
X-WR-CALDESC:Events for DONA LLUM - Associació Catalana per un Part Respectat
BEGIN:VEVENT
DTSTART;TZID=UTC+2:20141129T100000
DTEND;TZID=UTC+2:20141129T130000
DTSTAMP:20260423T083814
CREATED:20141112T122955Z
LAST-MODIFIED:20141118T102942Z
UID:2390-1417255200-1417266000@www.donallum.org
SUMMARY:Inauguració del grup de suport DONA LLUM GIRONA
DESCRIPTION:
URL:https://www.donallum.org/esdeveniment/inauguracio-del-grup-de-suport-dona-llum-girona/
LOCATION:Plaça Assumpció 27 (2n pis)\, Girona
CATEGORIES:Projeccions audiovisuals
ATTACH;FMTTYPE=image/jpeg:https://www.donallum.org/wp-content/uploads/2014/11/Cartell_Inauguraciu00F3_Giron-a.jpeg
END:VEVENT
END:VCALENDAR