BEGIN:VCALENDAR
VERSION:2.0
PRODID:-//DONA LLUM - Associació Catalana per un Part Respectat - ECPv4.6.13//NONSGML v1.0//EN
CALSCALE:GREGORIAN
METHOD:PUBLISH
X-WR-CALNAME:DONA LLUM - Associació Catalana per un Part Respectat
X-ORIGINAL-URL:https://www.donallum.org
X-WR-CALDESC:Events for DONA LLUM - Associació Catalana per un Part Respectat
BEGIN:VEVENT
DTSTART;TZID=UTC+2:20150115T080000
DTEND;TZID=UTC+2:20150115T170000
DTSTAMP:20260423T082641
CREATED:20150115T171646Z
LAST-MODIFIED:20150115T171646Z
UID:2501-1421308800-1421341200@www.donallum.org
SUMMARY:Grup de suport Girona
DESCRIPTION:En les trobades tractem temes d’interès envers l’embaràs\, el part i el postpart. Oferim un entorn tranquil per les famílies que vulguin compartir i expressar les seves vivències\, els dubtes i neguits. \nUs animem a venir i compartir amb nosaltres les vostres experiències? \nDisposem també d’una biblioteca especialitzada a l’abast de tots. \nEn tots els nostres grups\, l’entrada és gratuïta i els infants són benvinguts. \n
URL:https://www.donallum.org/esdeveniment/grup-de-suport-girona-2/
LOCATION:Plaça Assumpció 27 (2n pis)\, Girona
CATEGORIES:Grup de suport
END:VEVENT
END:VCALENDAR