BEGIN:VCALENDAR
VERSION:2.0
PRODID:-//DONA LLUM - Associació Catalana per un Part Respectat - ECPv4.6.13//NONSGML v1.0//EN
CALSCALE:GREGORIAN
METHOD:PUBLISH
X-WR-CALNAME:DONA LLUM - Associació Catalana per un Part Respectat
X-ORIGINAL-URL:https://www.donallum.org
X-WR-CALDESC:Events for DONA LLUM - Associació Catalana per un Part Respectat
BEGIN:VEVENT
DTSTART;TZID=UTC+2:20141223T170000
DTEND;TZID=UTC+2:20141223T190000
DTSTAMP:20260423T083814
CREATED:20141112T123204Z
LAST-MODIFIED:20141201T072432Z
UID:2392-1419354000-1419361200@www.donallum.org
SUMMARY:Grup de suport DONA LLUM GIRONA
DESCRIPTION:En les trobades tractem temes d’interès envers l’embaràs\, el part i el postpart. Oferim un entorn tranquil per les famílies que vulguin compartir iexpressar les seves vivències i els seus sentiments. Us animem a venir i compartir amb nosaltres les vostres experiències! Disposem també d’una biblioteca especialitzada a l’abast de tots. En tots els nostres grups\, l’entrada és gratuïta i els infants són benvinguts. \n
URL:https://www.donallum.org/esdeveniment/grup-de-suport-dona-llum-girona/
LOCATION:Plaça Assumpció 27 (2n pis)\, Girona
CATEGORIES:Grup de suport
END:VEVENT
END:VCALENDAR